BEGIN:VCALENDAR
VERSION:2.0
PRODID:-//De Dochter van de Korenaar - ECPv6.15.20//NONSGML v1.0//EN
CALSCALE:GREGORIAN
METHOD:PUBLISH
X-WR-CALNAME:De Dochter van de Korenaar
X-ORIGINAL-URL:https://www.dedochtervandekorenaar.be
X-WR-CALDESC:Evenementen voor De Dochter van de Korenaar
REFRESH-INTERVAL;VALUE=DURATION:PT1H
X-Robots-Tag:noindex
X-PUBLISHED-TTL:PT1H
BEGIN:VTIMEZONE
TZID:Europe/Paris
BEGIN:DAYLIGHT
TZOFFSETFROM:+0100
TZOFFSETTO:+0200
TZNAME:CEST
DTSTART:20230326T010000
END:DAYLIGHT
BEGIN:STANDARD
TZOFFSETFROM:+0200
TZOFFSETTO:+0100
TZNAME:CET
DTSTART:20231029T010000
END:STANDARD
BEGIN:DAYLIGHT
TZOFFSETFROM:+0100
TZOFFSETTO:+0200
TZNAME:CEST
DTSTART:20240331T010000
END:DAYLIGHT
BEGIN:STANDARD
TZOFFSETFROM:+0200
TZOFFSETTO:+0100
TZNAME:CET
DTSTART:20241027T010000
END:STANDARD
BEGIN:DAYLIGHT
TZOFFSETFROM:+0100
TZOFFSETTO:+0200
TZNAME:CEST
DTSTART:20250330T010000
END:DAYLIGHT
BEGIN:STANDARD
TZOFFSETFROM:+0200
TZOFFSETTO:+0100
TZNAME:CET
DTSTART:20251026T010000
END:STANDARD
END:VTIMEZONE
BEGIN:VEVENT
DTSTART;VALUE=DATE:20240630
DTEND;VALUE=DATE:20240701
DTSTAMP:20260423T225247
CREATED:20240506T104741Z
LAST-MODIFIED:20240506T104752Z
UID:10000006-1719705600-1719791999@www.dedochtervandekorenaar.be
SUMMARY:T DRINKS Tilburgs Bierfestival
DESCRIPTION:Het T DRINKS Tilburgs Bierfestival vindt ook dit jaar plaats op de Heuvel in Tilburg op zondag 30 juni\, van 13:00-18:00 uur. \nGeniet van bieren van ca. 15 brouwers uit Nederland en andere landen\, maak kennis met andere bierliefhebbers\, doe mee aan een masterclass van biersommelier Mark van Bergen\, proef lekkere hapjes en nog veel meer!
URL:https://www.dedochtervandekorenaar.be/event/t-drinks-tilburgs-bierfestival/
LOCATION:T DRINKS\, Heuvelring 145\, Tilburg\, Nederland
CATEGORIES:Buiten de deur
END:VEVENT
END:VCALENDAR