BEGIN:VCALENDAR
VERSION:2.0
PRODID:-//De Dochter van de Korenaar - ECPv6.15.20//NONSGML v1.0//EN
CALSCALE:GREGORIAN
METHOD:PUBLISH
X-WR-CALNAME:De Dochter van de Korenaar
X-ORIGINAL-URL:https://www.dedochtervandekorenaar.be
X-WR-CALDESC:Evenementen voor De Dochter van de Korenaar
REFRESH-INTERVAL;VALUE=DURATION:PT1H
X-Robots-Tag:noindex
X-PUBLISHED-TTL:PT1H
BEGIN:VTIMEZONE
TZID:Europe/Paris
BEGIN:DAYLIGHT
TZOFFSETFROM:+0100
TZOFFSETTO:+0200
TZNAME:CEST
DTSTART:20230326T010000
END:DAYLIGHT
BEGIN:STANDARD
TZOFFSETFROM:+0200
TZOFFSETTO:+0100
TZNAME:CET
DTSTART:20231029T010000
END:STANDARD
BEGIN:DAYLIGHT
TZOFFSETFROM:+0100
TZOFFSETTO:+0200
TZNAME:CEST
DTSTART:20240331T010000
END:DAYLIGHT
BEGIN:STANDARD
TZOFFSETFROM:+0200
TZOFFSETTO:+0100
TZNAME:CET
DTSTART:20241027T010000
END:STANDARD
BEGIN:DAYLIGHT
TZOFFSETFROM:+0100
TZOFFSETTO:+0200
TZNAME:CEST
DTSTART:20250330T010000
END:DAYLIGHT
BEGIN:STANDARD
TZOFFSETFROM:+0200
TZOFFSETTO:+0100
TZNAME:CET
DTSTART:20251026T010000
END:STANDARD
END:VTIMEZONE
BEGIN:VEVENT
DTSTART;VALUE=DATE:20240906
DTEND;VALUE=DATE:20240907
DTSTAMP:20260423T131828
CREATED:20240829T131852Z
LAST-MODIFIED:20240829T131852Z
UID:10000021-1725580800-1725667199@www.dedochtervandekorenaar.be
SUMMARY:bierfestival bij restaurant De gebrande winning
DESCRIPTION:bierfestival bij restaurant De gebrande winning\, te Sint Truiden
URL:https://www.dedochtervandekorenaar.be/event/bierfestival-bij-restaurant-de-gebrande-winning/
CATEGORIES:Proeflokaal
ORGANIZER;CN="De Dochter van de Korenaar":MAILTO:proeflokaal@dedochtervande korenaar.be
END:VEVENT
BEGIN:VEVENT
DTSTART;VALUE=DATE:20240907
DTEND;VALUE=DATE:20240908
DTSTAMP:20260423T131828
CREATED:20240829T131953Z
LAST-MODIFIED:20240829T131953Z
UID:10000022-1725667200-1725753599@www.dedochtervandekorenaar.be
SUMMARY:Gooisch bierfestival
DESCRIPTION:Gooisch bierfestival te Hilversum
URL:https://www.dedochtervandekorenaar.be/event/gooisch-bierfestival/
CATEGORIES:Proeflokaal
ORGANIZER;CN="De Dochter van de Korenaar":MAILTO:proeflokaal@dedochtervande korenaar.be
END:VEVENT
BEGIN:VEVENT
DTSTART;VALUE=DATE:20240908
DTEND;VALUE=DATE:20240909
DTSTAMP:20260423T131828
CREATED:20240506T105222Z
LAST-MODIFIED:20240506T105222Z
UID:10000008-1725753600-1725839999@www.dedochtervandekorenaar.be
SUMMARY:Hop over de grens\, Baarle Hertog
DESCRIPTION:
URL:https://www.dedochtervandekorenaar.be/event/hop-over-de-grens-baarle-hertog/
LOCATION:Sint-Annaplein\, Sint-Annaplein\, Baarle-Nassau\, België
CATEGORIES:Buiten de deur
END:VEVENT
BEGIN:VEVENT
DTSTART;VALUE=DATE:20240914
DTEND;VALUE=DATE:20240916
DTSTAMP:20260423T131828
CREATED:20240506T105454Z
LAST-MODIFIED:20240506T105454Z
UID:10000009-1726272000-1726444799@www.dedochtervandekorenaar.be
SUMMARY:Brugs Bierfestival\, Brugge
DESCRIPTION:BBF24\, de zestiende editie van ons bierfestival gaat voor de derde keer door in het nieuwe Beurs-\, Meeting- en Congrescentrum in hartje Brugge. \nMeer dan 60 brouwerijen en bierfirma’s zullen vertegenwoordigd zijn.\nZij brengen naar schatting meer dan 400 te proeven bieren mee naar de moderne locatie op het Beursplein.
URL:https://www.dedochtervandekorenaar.be/event/brugs-bierfestival-brugge/
CATEGORIES:Buiten de deur
END:VEVENT
BEGIN:VEVENT
DTSTART;VALUE=DATE:20240928
DTEND;VALUE=DATE:20240930
DTSTAMP:20260423T131828
CREATED:20240829T132045Z
LAST-MODIFIED:20240829T132045Z
UID:10000023-1727481600-1727654399@www.dedochtervandekorenaar.be
SUMMARY:BXL te Brussel
DESCRIPTION:
URL:https://www.dedochtervandekorenaar.be/event/bxl-te-brussel/
CATEGORIES:Proeflokaal
ORGANIZER;CN="De Dochter van de Korenaar":MAILTO:proeflokaal@dedochtervande korenaar.be
END:VEVENT
END:VCALENDAR