BEGIN:VCALENDAR
VERSION:2.0
PRODID:-//De Dochter van de Korenaar - ECPv6.15.20//NONSGML v1.0//EN
CALSCALE:GREGORIAN
METHOD:PUBLISH
X-WR-CALNAME:De Dochter van de Korenaar
X-ORIGINAL-URL:https://www.dedochtervandekorenaar.be
X-WR-CALDESC:Evenementen voor De Dochter van de Korenaar
REFRESH-INTERVAL;VALUE=DURATION:PT1H
X-Robots-Tag:noindex
X-PUBLISHED-TTL:PT1H
BEGIN:VTIMEZONE
TZID:Europe/Brussels
BEGIN:DAYLIGHT
TZOFFSETFROM:+0100
TZOFFSETTO:+0200
TZNAME:CEST
DTSTART:20240331T010000
END:DAYLIGHT
BEGIN:STANDARD
TZOFFSETFROM:+0200
TZOFFSETTO:+0100
TZNAME:CET
DTSTART:20241027T010000
END:STANDARD
BEGIN:DAYLIGHT
TZOFFSETFROM:+0100
TZOFFSETTO:+0200
TZNAME:CEST
DTSTART:20250330T010000
END:DAYLIGHT
BEGIN:STANDARD
TZOFFSETFROM:+0200
TZOFFSETTO:+0100
TZNAME:CET
DTSTART:20251026T010000
END:STANDARD
BEGIN:DAYLIGHT
TZOFFSETFROM:+0100
TZOFFSETTO:+0200
TZNAME:CEST
DTSTART:20260329T010000
END:DAYLIGHT
BEGIN:STANDARD
TZOFFSETFROM:+0200
TZOFFSETTO:+0100
TZNAME:CET
DTSTART:20261025T010000
END:STANDARD
BEGIN:DAYLIGHT
TZOFFSETFROM:+0100
TZOFFSETTO:+0200
TZNAME:CEST
DTSTART:20270328T010000
END:DAYLIGHT
BEGIN:STANDARD
TZOFFSETFROM:+0200
TZOFFSETTO:+0100
TZNAME:CET
DTSTART:20271031T010000
END:STANDARD
END:VTIMEZONE
BEGIN:VEVENT
DTSTART;TZID=Europe/Brussels:20251108T130000
DTEND;TZID=Europe/Brussels:20251108T193000
DTSTAMP:20260423T132047
CREATED:20250901T082815Z
LAST-MODIFIED:20251006T104948Z
UID:10003738-1762606800-1762630200@www.dedochtervandekorenaar.be
SUMMARY:DVDK bierfestival
DESCRIPTION:Aanmelden via deze link
URL:https://www.dedochtervandekorenaar.be/event/dvdk-bierfestival-2/
LOCATION:Proeflokaal\, Oordeelstraat 3B\, Baarle-Hertog\, 2387\, België
ATTACH;FMTTYPE=image/jpeg:https://www.dedochtervandekorenaar.be/wp-content/uploads/2025/10/nieuwsbrief-oktober-2.jpg
END:VEVENT
BEGIN:VEVENT
DTSTART;TZID=Europe/Brussels:20260426T120000
DTEND;TZID=Europe/Brussels:20260426T170000
DTSTAMP:20260423T132047
CREATED:20260423T061117Z
LAST-MODIFIED:20260423T061117Z
UID:10003741-1777204800-1777222800@www.dedochtervandekorenaar.be
SUMMARY:Opening van het toeristisch seizoen
DESCRIPTION:Pop UP terras van ‘De Dochter van de Korenaar’ en ‘Hof van Baarle’ \nSingel Baarle Nassau
URL:https://www.dedochtervandekorenaar.be/event/opening-van-het-toeristisch-seizoen/
LOCATION:Proeflokaal\, Oordeelstraat 3B\, Baarle-Hertog\, 2387\, België
END:VEVENT
BEGIN:VEVENT
DTSTART;VALUE=DATE:20260531
DTEND;VALUE=DATE:20260601
DTSTAMP:20260423T132047
CREATED:20260423T061149Z
LAST-MODIFIED:20260423T061149Z
UID:10003742-1780185600-1780271999@www.dedochtervandekorenaar.be
SUMMARY:Uitzonderlijk geopend
DESCRIPTION:Muziekzondag & lancering nieuw bier Bravoure Oak and Smoke
URL:https://www.dedochtervandekorenaar.be/event/uitzonderlijk-geopend/
LOCATION:Proeflokaal\, Oordeelstraat 3B\, Baarle-Hertog\, 2387\, België
END:VEVENT
BEGIN:VEVENT
DTSTART;VALUE=DATE:20260725
DTEND;VALUE=DATE:20260726
DTSTAMP:20260423T132047
CREATED:20260423T061209Z
LAST-MODIFIED:20260423T061209Z
UID:10003743-1784937600-1785023999@www.dedochtervandekorenaar.be
SUMMARY:Vinyl  plaatjes draaien bij de brouwerij
DESCRIPTION:
URL:https://www.dedochtervandekorenaar.be/event/vinyl-plaatjes-draaien-bij-de-brouwerij/
LOCATION:Proeflokaal\, Oordeelstraat 3B\, Baarle-Hertog\, 2387\, België
END:VEVENT
END:VCALENDAR